BEGIN:VCALENDAR
VERSION:2.0
PRODID:-//Zwols Symfonie Orkest - ECPv6.0.11//NONSGML v1.0//EN
CALSCALE:GREGORIAN
METHOD:PUBLISH
X-WR-CALNAME:Zwols Symfonie Orkest
X-ORIGINAL-URL:https://zwolssymfonieorkest.nl
X-WR-CALDESC:Evenementen voor Zwols Symfonie Orkest
REFRESH-INTERVAL;VALUE=DURATION:PT1H
X-Robots-Tag:noindex
X-PUBLISHED-TTL:PT1H
BEGIN:VTIMEZONE
TZID:UTC
BEGIN:STANDARD
TZOFFSETFROM:+0000
TZOFFSETTO:+0000
TZNAME:UTC
DTSTART:20210101T000000
END:STANDARD
END:VTIMEZONE
BEGIN:VEVENT
DTSTART;TZID=UTC:20250902T193000
DTEND;TZID=UTC:20250902T220000
DTSTAMP:20260421T100903
CREATED:20250713T113651Z
LAST-MODIFIED:20250713T113651Z
UID:14654-1756841400-1756850400@zwolssymfonieorkest.nl
SUMMARY:Start nieuwe seizoen
DESCRIPTION:Op 2 september begint het Zwols Symfonie Orkest aan het nieuwe seizoen. We werken toe naar ons najaarsconcert op 23 november in Berkum. Op het programma staan de Ouverture in Italiaanse stijl van Schubert\, de Tweede symfonie van Saint-Saëns en een werk van de Nederlandse componist Jan Brandts Buys. \nWe hebben nog plek voor violisten\, altviolisten en een paukenist. Speel je mee\, of ken je iemand die interesse heeft? Neem dan contact met ons op!
URL:https://zwolssymfonieorkest.nl/event/start-nieuwe-seizoen/
LOCATION:Gymnasium Celeanum\, Zoom 37\, Zwolle\, 8032 EM\, Nederland
CATEGORIES:Repetitie
ATTACH;FMTTYPE=image/png:https://zwolssymfonieorkest.nl/wp-content/uploads/2022/03/celeanum.png
END:VEVENT
BEGIN:VEVENT
DTSTART;TZID=UTC:20230926T200000
DTEND;TZID=UTC:20230926T220000
DTSTAMP:20260421T100903
CREATED:20230803T093854Z
LAST-MODIFIED:20230803T094304Z
UID:14394-1695758400-1695765600@zwolssymfonieorkest.nl
SUMMARY:Groepsrepetities
DESCRIPTION:Groepsrepetities per sectie
URL:https://zwolssymfonieorkest.nl/event/groepsrepetities-3/
LOCATION:Gymnasium Celeanum\, Zoom 37\, Zwolle\, 8032 EM\, Nederland
CATEGORIES:Leden evenement,Repetitie
ATTACH;FMTTYPE=image/jpeg:https://zwolssymfonieorkest.nl/wp-content/uploads/2023/08/381D1FF0-DF08-4596-B0FC-2A23C784B827.jpg
END:VEVENT
BEGIN:VEVENT
DTSTART;TZID=UTC:20230905T200000
DTEND;TZID=UTC:20230905T220000
DTSTAMP:20260421T100903
CREATED:20230803T094420Z
LAST-MODIFIED:20230803T094438Z
UID:14397-1693944000-1693951200@zwolssymfonieorkest.nl
SUMMARY:Start seizoen
DESCRIPTION:Iedereen is weer van harte welkom voor de wekelijkse repetities!
URL:https://zwolssymfonieorkest.nl/event/start-seizoen/
LOCATION:Gymnasium Celeanum\, Zoom 37\, Zwolle\, 8032 EM\, Nederland
CATEGORIES:Repetitie
ATTACH;FMTTYPE=image/png:https://zwolssymfonieorkest.nl/wp-content/uploads/2022/03/celeanum.png
END:VEVENT
BEGIN:VEVENT
DTSTART;TZID=UTC:20230225T100000
DTEND;TZID=UTC:20230225T160000
DTSTAMP:20260421T100903
CREATED:20230106T151618Z
LAST-MODIFIED:20230106T151619Z
UID:14362-1677319200-1677340800@zwolssymfonieorkest.nl
SUMMARY:Repetitiedag
DESCRIPTION:Ochtend – groepsrepetities \nMiddag- tutti
URL:https://zwolssymfonieorkest.nl/event/repetitiedag/
LOCATION:Gymnasium Celeanum\, Zoom 37\, Zwolle\, 8032 EM\, Nederland
CATEGORIES:Repetitie
ATTACH;FMTTYPE=image/jpeg:https://zwolssymfonieorkest.nl/wp-content/uploads/2022/11/P1250530.jpg
END:VEVENT
BEGIN:VEVENT
DTSTART;TZID=UTC:20230207T193000
DTEND;TZID=UTC:20230207T220000
DTSTAMP:20260421T100903
CREATED:20230106T151402Z
LAST-MODIFIED:20230106T151403Z
UID:14360-1675798200-1675807200@zwolssymfonieorkest.nl
SUMMARY:Groepsrepetitie
DESCRIPTION:Voor de pauze groepsrepetities onder begeleiding van een professioneel muzikant. \nNa de pauze tutti repetitie
URL:https://zwolssymfonieorkest.nl/event/groepsrepetitie/
CATEGORIES:Repetitie
ATTACH;FMTTYPE=image/jpeg:https://zwolssymfonieorkest.nl/wp-content/uploads/2022/11/P1250530.jpg
END:VEVENT
BEGIN:VEVENT
DTSTART;TZID=UTC:20230110T193000
DTEND;TZID=UTC:20230110T220000
DTSTAMP:20260421T100903
CREATED:20230106T151118Z
LAST-MODIFIED:20230106T151118Z
UID:14358-1673379000-1673388000@zwolssymfonieorkest.nl
SUMMARY:Groepsrepetities
DESCRIPTION:Groepsrepetities onder begeleiding van een professional muzikant.
URL:https://zwolssymfonieorkest.nl/event/groepsrepetities-2/
CATEGORIES:Repetitie
ATTACH;FMTTYPE=image/jpeg:https://zwolssymfonieorkest.nl/wp-content/uploads/2022/11/P1250530.jpg
END:VEVENT
BEGIN:VEVENT
DTSTART;TZID=UTC:20221025T190000
DTEND;TZID=UTC:20221025T220000
DTSTAMP:20260421T100903
CREATED:20221016T191201Z
LAST-MODIFIED:20221016T191201Z
UID:14281-1666724400-1666735200@zwolssymfonieorkest.nl
SUMMARY:Groepsrepetities
DESCRIPTION:Vanaf 7 uur tot aan de pauze groepsreptities\, na de pauze tutti.
URL:https://zwolssymfonieorkest.nl/event/groepsrepetities/
CATEGORIES:Repetitie
ATTACH;FMTTYPE=image/png:https://zwolssymfonieorkest.nl/wp-content/uploads/2022/03/celeanum.png
END:VEVENT
BEGIN:VEVENT
DTSTART;TZID=UTC:20220906T193000
DTEND;TZID=UTC:20220906T220000
DTSTAMP:20260421T100903
CREATED:20220901T073829Z
LAST-MODIFIED:20220901T092606Z
UID:14257-1662492600-1662501600@zwolssymfonieorkest.nl
SUMMARY:Eerste repetitie van het seizoen
DESCRIPTION:Wij beginnen weer met repeteren! Op de lessenaar staat muziek van o.a. Haydn en Brahms en we werken toe naar het concert in november. \nWij hebben nog plek voor een aantal nieuwe leden\, oa. violisten\, altviolisten\,  hobo en hoorn zijn van harte welkom. Wil je meer weten? Neem dan contact op via info@zwolssymfonieorkest.nl
URL:https://zwolssymfonieorkest.nl/event/eerste-repetitie-van-het-seizoen/
LOCATION:Gymnasium Celeanum\, Zoom 37\, Zwolle\, 8032 EM\, Nederland
CATEGORIES:Repetitie
ATTACH;FMTTYPE=image/jpeg:https://zwolssymfonieorkest.nl/wp-content/uploads/2021/06/IMG_5253-Medium-300x200-1.jpg
END:VEVENT
BEGIN:VEVENT
DTSTART;TZID=UTC:20210907T193000
DTEND;TZID=UTC:20210907T220000
DTSTAMP:20260421T100903
CREATED:20210610T185709Z
LAST-MODIFIED:20210706T114342Z
UID:14175-1631043000-1631052000@zwolssymfonieorkest.nl
SUMMARY:Kom je ook op ons feestje?
DESCRIPTION:Hoera\, op 7 september gaan we weer repeteren! We vieren dit onder leiding van Hans Oosterwijk met een repetoire met feestelijke en niet te moeilijke muziek\, zodat iedereen de tijd heeft om weer te wennen aan het samen spelen en we vooral kunnen genieten van het samen muziek maken. Op de lessenaar staat in ieder geval: \nBizet                   Overture Carmen \nBizet                   L’Arlésienne Suite No. 2 \nBorodin              symfonische gedicht In de steppen van Centraal-Azië \nDvorak               Slavische Dansen (2 stuks) \nBen je nieuw en wil je mee komen spelen? Dat kan! Mail gerust voor meer informatie naar info@zwolssymfonieorkest.nl
URL:https://zwolssymfonieorkest.nl/event/eerste-repetitie/
LOCATION:Gymnasium Celeanum\, Zoom 37\, Zwolle\, 8032 EM\, Nederland
CATEGORIES:Concert,Open repetitie,Repetitie
ATTACH;FMTTYPE=image/png:https://zwolssymfonieorkest.nl/wp-content/uploads/2021/06/Feestje.png
END:VEVENT
END:VCALENDAR