BEGIN:VCALENDAR
VERSION:2.0
PRODID:-//Zwols Symfonie Orkest - ECPv6.0.11//NONSGML v1.0//EN
CALSCALE:GREGORIAN
METHOD:PUBLISH
X-ORIGINAL-URL:https://zwolssymfonieorkest.nl
X-WR-CALDESC:Evenementen voor Zwols Symfonie Orkest
REFRESH-INTERVAL;VALUE=DURATION:PT1H
X-Robots-Tag:noindex
X-PUBLISHED-TTL:PT1H
BEGIN:VTIMEZONE
TZID:UTC
BEGIN:STANDARD
TZOFFSETFROM:+0000
TZOFFSETTO:+0000
TZNAME:UTC
DTSTART:20260101T000000
END:STANDARD
END:VTIMEZONE
BEGIN:VEVENT
DTSTART;TZID=UTC:20261128T200000
DTEND;TZID=UTC:20261128T220000
DTSTAMP:20260421T025019
CREATED:20260208T121350Z
LAST-MODIFIED:20260208T121350Z
UID:14681-1795896000-1795903200@zwolssymfonieorkest.nl
SUMMARY:Jubileumconcert
DESCRIPTION:Zwols Symfonie viert feest! 🎉Al 80 jaar brengen wij symfonische muziek tot leven in Zwolle en omstreken. Dat jubileum laten we natuurlijk niet ongemerkt voorbijgaan. Tijdens dit bijzondere jubileumconcert vieren we onze rijke geschiedenis én kijken we vooruit. Het programma maken we later bekend\, maar één ding is zeker: het wordt een avond om niet te missen.
URL:https://zwolssymfonieorkest.nl/event/jubileumconcert/
CATEGORIES:Concert
ATTACH;FMTTYPE=image/jpeg:https://zwolssymfonieorkest.nl/wp-content/uploads/2025/07/zso-groepsfoto-2025.jpg
END:VEVENT
END:VCALENDAR