BEGIN:VCALENDAR
VERSION:2.0
PRODID:-//Zwols Symfonie Orkest - ECPv6.0.11//NONSGML v1.0//EN
CALSCALE:GREGORIAN
METHOD:PUBLISH
X-WR-CALNAME:Zwols Symfonie Orkest
X-ORIGINAL-URL:https://zwolssymfonieorkest.nl
X-WR-CALDESC:Evenementen voor Zwols Symfonie Orkest
REFRESH-INTERVAL;VALUE=DURATION:PT1H
X-Robots-Tag:noindex
X-PUBLISHED-TTL:PT1H
BEGIN:VTIMEZONE
TZID:UTC
BEGIN:STANDARD
TZOFFSETFROM:+0000
TZOFFSETTO:+0000
TZNAME:UTC
DTSTART:20200101T000000
END:STANDARD
END:VTIMEZONE
BEGIN:VEVENT
DTSTART;TZID=UTC:20260410T200000
DTEND;TZID=UTC:20260410T220000
DTSTAMP:20260421T043353
CREATED:20250912T154228Z
LAST-MODIFIED:20260302T190212Z
UID:14664-1775851200-1775858400@zwolssymfonieorkest.nl
SUMMARY:Echos in de Nieuwe Wereld
DESCRIPTION:Op vrijdag 10 april brengt het Zwols Symfonie Orkest een welklinkend concertprogramma in de Fonteinkerk in Zwolle. Echos in een Nieuwe Wereld is het thema van het concert.\nOp het programma staan het Hoornconcert no. 1 van Richard Strauss. de Symfonie nr. 9 van Antonin Dvorak (Aus der Neuen Welt) en de Preludio Sinfonico van Giacomo Puccini.   \nSolist hoornconcert\nDe solist in het Hoornconcert nr. 1 van Richard Strauss is ZSO-lid Arie Nennie. Hij speelt zijn lievelings-hoornconcert\, het is voor hem een hommage aan zijn vader (ook hoornist) en ook aan Richard Strauss. Ook voor Strauss was het hoornconcert een eerbetoon aan zijn vader. \nDe Symfonie nr. 9 van Antonin Dvorak is het bekendst met de titel ‘Aus der Neuen Welt’. Het is een muzikaal monument uit de romantiek. Dvorak was thuis in Tsjechië al heel beroemd vanwege het verwerken van volksmuziek in zijn composities en werd uitgenodigd om ook in Amerika zo’n impuls te geven aan de muziek. \nDe Preludio Sinfonico is een vroege compositie van Giacomo Puccini\, een beroemd componist van opera’s. Met dit werk toonde Puccini zijn talent om prachtige melodieën te componeren. \nHet ZSO brengt in dit concert werken die nieuwe muzikale werelden openen en wereldwijd gewaardeerd worden om de vrolijke\, lieflijke en ook soms ook stevige melodieën. ZSO speelt het programma met veel inzet en vooral plezier.\nDirigent David de Goede is de enthousiaste inspirator voor het orkest én voor het publiek. \nDatum: vrijdag 10 april 2026 – aanvang 20:00 uur\nPlaats: Fonteinkerk – Sterrenkroos 56 in Zwolle – Stadshagen\nKaarten: Volwassenen € 18\,=  \, Studenten € 12\,= \, Jeugd t/m 18 jaar € 6\,= te reserveren via info@zwolssymfonieorkest.nl of aan de zaal
URL:https://zwolssymfonieorkest.nl/event/zso-concert-10-april-2026-zwolle/
LOCATION:De Fontein\, Sterrenkroos 56\, Zwolle
CATEGORIES:Concert
ATTACH;FMTTYPE=image/jpeg:https://zwolssymfonieorkest.nl/wp-content/uploads/2025/09/Echos.jpg
END:VEVENT
BEGIN:VEVENT
DTSTART;TZID=UTC:20251123T150000
DTEND;TZID=UTC:20251123T170000
DTSTAMP:20260421T043353
CREATED:20241218T153201Z
LAST-MODIFIED:20251102T122135Z
UID:14585-1763910000-1763917200@zwolssymfonieorkest.nl
SUMMARY:Van zonnig tot poëtisch - Muziek met een plus
DESCRIPTION:Op zondagmiddag 23 november speelt het Zwols Symfonie Orkest onder leiding van David de Goede een bijzonder programma met verrassende en weinig uitgevoerde werken: \nFranz Schubert – Ouverture in Italiaanse stijl \nJan Brandts Buys – Poëtischer Spaziergang \nCamille Saint-Saëns – Symfonie nr. 2 \nNaast prachtige muziek bieden we ook verdieping: er is een korte inleiding over de Nederlands-Oostenrijkse componist Jan Brandts Buys\, bekend om zijn lyrische en expressieve stijl die de romantische traditie voortzet. \nKaarten\nToegang €18\,50 | Livestream €7\,50 | Jongeren t/m 16 €7\,50\nInclusief consumptie \nDit concert maakt deel uit van de reeks Muziek met een Plus in De Hoofdhof. \nKaarten reserveren of meer weten? 👉 www.muziekmeteenplus.nl
URL:https://zwolssymfonieorkest.nl/event/zwols-symfonie-orkest-novemberconcert-2025/
LOCATION:De Hoofdhof\, Kerkweg 26\, Zwolle\, 8024 AN
CATEGORIES:Concert
ATTACH;FMTTYPE=image/png:https://zwolssymfonieorkest.nl/wp-content/uploads/2024/12/zonnig-poetisch.png
END:VEVENT
BEGIN:VEVENT
DTSTART;TZID=UTC:20250624T080000
DTEND;TZID=UTC:20250624T220000
DTSTAMP:20260421T043353
CREATED:20241216T134130Z
LAST-MODIFIED:20250601T184917Z
UID:14582-1750752000-1750802400@zwolssymfonieorkest.nl
SUMMARY:Klassiek in de tent
DESCRIPTION:Samen muziek maken – dát is waar het Zwols Symfonie Orkest voor leeft. En dat plezier willen we graag met jou delen tijdens onze feestelijke seizoensafsluiting! \nWe brengen een avond vol sprankelende en meeslepende muziek. Van de bruisende Donau van Johann Strauss tot de exotische klanken van Saint-Saëns’ Bacchanale\, en van het ontroerende tweede deel uit Beethovens Zevende symfonie tot nog veel meer muzikale verrassingen. Dit allemaal onder leiding van David de Goede. \nDit alles vindt plaats op een sfeervolle en toegankelijke locatie: de muziektent op het Assendorperplein in Zwolle. Of je nu een doorgewinterde liefhebber bent van klassiek of gewoon zin hebt in een leuke avond: iedereen is welkom!  Er staan klapstoelen klaar\, maar neem gerust je eigen stoel of kleedje mee.
URL:https://zwolssymfonieorkest.nl/event/seizoensafsluiting-zwols-symfonie-orkest-assendorp/
LOCATION:Muziektent Assendorp\, Assendorperplein\, Zwolle\, Nederland
CATEGORIES:Concert
ATTACH;FMTTYPE=image/jpeg:https://zwolssymfonieorkest.nl/wp-content/uploads/2024/12/Klassiek-in-de-tent.jpg
END:VEVENT
BEGIN:VEVENT
DTSTART;TZID=UTC:20250412T200000
DTEND;TZID=UTC:20250412T220000
DTSTAMP:20260421T043353
CREATED:20241024T115108Z
LAST-MODIFIED:20250314T124809Z
UID:14552-1744488000-1744495200@zwolssymfonieorkest.nl
SUMMARY:Dichter bij vrijheid –  voorjaarsconcert Zwols Symfonie Orkest
DESCRIPTION:Het Zwols Symfonie Orkest geeft op zaterdag 12 april het voorjaarsconcert 2025 in De Fontein in Zwolle. Het orkest werkt samen met dichter Bauke Vermaas het programma Dichter bij Vrijheid.   Op het programma staan vier klassieke topcomposities die invulling geven aan thema’s als strijd\, onderdrukking en vrijheid. Naast gedichten van Bauke Vermaas staan de Ouverture Nabucco van Verdi\, deel 3 uit Symfonie nr. 1 van Mahler\, Blaník van Smetana en de Vijfde Symfonie van Beethoven op het programma. \nBij binnenkomst maakt een beeldpresentatie direct duidelijk dat het concert bijdraagt aan de viering van de bevrijding van Zwolle op 14 april 1945. Onder leiding van Samuel Tamarit schetst het ZSO in het eerste deel van het concert de thema’s waaruit vrijheid ontstaat. Het gaat om onderdrukking\, verbanning en verlangen naar vrijheid\, worsteling en strijd. In het programma hoort u onder andere het bekende Slavenkoor\, de dodenmars in combinatie met een verzuchting onder een lindenboom en het ontwaken van een mythische riddermacht die strijd voor het behoud van de Tsjechische natie. \nMet Beethoven V is er de relatie met Vrijheid\, in de delen van de symfonie gaat het achtereenvolgens over spanning en conflict\, een lofzang op de schoonheid van de natuur\, worsteling met tegenslag en de uiteindelijke triomf en vrijheid. De inleidende ta ta ta taaa klanken van de symfonie zijn heel bekend geworden als de introductie van de nieuwsuitzendingen van de BBC tijdens de oorlogsjaren. \nTijdens het concert zal Bauke Vermaas een aantal gedichten voordragen om de inhoud van het concert Dichter bij Vrijheid te onderstrepen. \nZSO hoopt met het concert te onderstrepen wat de waarde is van vrede en vrijheid in onze samenleving terwijl we beseffen dat niet ver van huis nog steeds en opnieuw deze waarden ontbreken. \nDatum:                zaterdag 12 april 2025 – 20:00 uur\nPlaats:                 De Fontein – Sterrenkroos 56\, Zwolle – Stadshagen\nEntree:                € 18 (studenten € 12; 12 tot 18 jr € 6\, tot 12 jr gratis) \nKaarten zijn verkrijgbaar via de leden en voor aanvang van het concert bij de kassa in de kerk. Ook is het mogelijk om kaarten te reserveren via info@zwolssymfonieorkest.nl \nDit concert wordt mede mogelijk gemaakt door een donatie van het V fonds en het Fonds Amateurkunst Zwolle
URL:https://zwolssymfonieorkest.nl/event/voorjaarsconcert-2/
LOCATION:De Fontein\, Sterrenkroos 56\, Zwolle
CATEGORIES:Concert
ATTACH;FMTTYPE=image/jpeg:https://zwolssymfonieorkest.nl/wp-content/uploads/2025/03/NL-ZlHCO_0652_FD028260-4-scaled.jpg
END:VEVENT
BEGIN:VEVENT
DTSTART;TZID=UTC:20241213T200000
DTEND;TZID=UTC:20241213T220000
DTSTAMP:20260421T043353
CREATED:20240627T104217Z
LAST-MODIFIED:20241116T200447Z
UID:14480-1734120000-1734127200@zwolssymfonieorkest.nl
SUMMARY:Tamarit & Vorontsova
DESCRIPTION:Het Zwols Symfonie Orkest geeft op vrijdag 13 december het Najaarsconcert 2024 in De Fontein in Zwolle. Het orkest brengt met de nieuwe dirigent Samuel Tamarit en pianiste Evelina Vorontsova prachtige klassieke werken met frisse energie.  Op het programma staan drie klassieke topcomposities:  het Pianoconcert n. 1 van Tsjaikovsky\, de Symfonie no. 8 “Unvollendete” van Schubert en de ouverture “Die Zauberflöte”van Mozart. \nSamuel Tamarit is de nieuwe Spaans-Nederlandse dirigent van het Zwols Symfonie Orkest. Samuels muzikale ideeën\, sprankelend charisma en sprekende dirigeertechniek combineren zijn eerste concert met het ZSO en de composities ongetwijfeld tot een betoverende en passievolle belevenis voor het publiek (én voor het orkest). \nEvelina Vorontsova is één van de beste vertolkers van romantische pianomuziek. Haar intense virtuoze stijl en cantabile legato getuigen van een hoogst romantische benadering van muziek. Evelina heeft vele internationale orkesten opgetreden en is prijswinnaar van diverse internationale concoursen. Zij is hoofdvakdocent piano aan het Utrechts Conservatorium en draagt haar kwaliteiten wereldwijd over als (online) pianodocent. \nTamarit & Vorontsova zorgen in het Pianoconcert no. 1 van Tsjaikovski samen met het ZSO voor een pakkende beleving van dit alom gewaardeerde pianoconcert. Het Zwols Symfonie Orkest speelt vooraf de Ouverture Die Zauberflöte van Mozart en na de pauze de “Unvollendete” Symfonie no. 8 van Schubert. \nEen concert om niet te willen missen! \nDatum:                vrijdag 13 december 2024 – 20:00 uur\nPlaats:                 De Fontein – Sterrenkroos 56\, Zwolle – Stadshagen\nEntree:                € 18 (studenten € 12; 12 tot 18 jr € 6\, tot 12 jr gratis) \nKaarten zijn verkrijgbaar via de leden\,  voor aanvang van het concert bij de kassa in de kerk. Ook is het mogelijk om kaarten te reserveren via info@zwolssymfonieorkest.nl
URL:https://zwolssymfonieorkest.nl/event/najaarsconcert-zwols-symfonie-orkest-december-2024/
LOCATION:De Fontein\, Sterrenkroos 56\, Zwolle
CATEGORIES:Concert
ATTACH;FMTTYPE=image/jpeg:https://zwolssymfonieorkest.nl/wp-content/uploads/2024/06/Evelina-Vorontsova.jpg
END:VEVENT
BEGIN:VEVENT
DTSTART;TZID=UTC:20240706T180000
DTEND;TZID=UTC:20240706T220000
DTSTAMP:20260421T043353
CREATED:20231022T113142Z
LAST-MODIFIED:20240427T183933Z
UID:14413-1720288800-1720303200@zwolssymfonieorkest.nl
SUMMARY:Afscheid aan de Vecht: Een betoverende avond met Hans Oosterwijk
DESCRIPTION:Op 6 juli organiseren we een speciaal afscheid concert ter ere van onze gewaardeerde dirigent\, Hans Oosterwijk. Na de corona periode heeft Hans met zijn enthousiasme de muzikale liefde en het het plezier van het samenspelen weer teruggebracht in het orkest en hebben we samen een heel aantal mooie projecten kunnen doen; van het begeleiden van een heus toneelstuk met livemuziek in Deltion tot aan een ambitieus strijkersproject en concert met oa het dubbelconcert van Bach.  Nu heeft hij besloten met pensioen te gaan en spelen we nog eenmaal samen. \nIn een intieme avond speciaal bedoeld voor een select gezelschap van vrienden\, familie en supporters\, blikken we samen terug op de mooie momenten en spelen we samen een rijtje ware klassiekers. Denk hierbij aan ouverture uit Die Zauberflöte van Mozart\, Forza la Destino van Verdi en Hamlet ouverture van Gade.
URL:https://zwolssymfonieorkest.nl/event/jazz-classics-goodbyes-een-magische-avond-met-hans-oosterwijk/
CATEGORIES:Concert,Leden evenement
ATTACH;FMTTYPE=image/jpeg:https://zwolssymfonieorkest.nl/wp-content/uploads/2022/06/4FFB3F68-CF89-49D2-A59E-1FBCFB128940.jpeg
END:VEVENT
BEGIN:VEVENT
DTSTART;TZID=UTC:20240406T200000
DTEND;TZID=UTC:20240406T220000
DTSTAMP:20260421T043353
CREATED:20231021T123934Z
LAST-MODIFIED:20240228T154234Z
UID:14408-1712433600-1712440800@zwolssymfonieorkest.nl
SUMMARY:Nordic Adventures – muzikaal noorderlicht door Zwols Symfonie Orkest
DESCRIPTION:Op 6 april neemt het Zwols Symfonie Orkest het publiek mee met Scandinavische muziek.\nHet programma Nordic Adventures bestaat uit werken van Jean Sibelius\, Edvard Grieg\, Lars-Erik Larsson en Carl Nielsen.  Het concert vindt plaats in De Fontein in Zwolle – Stadshagen.\nDirigent Hans Oosterwijk leidt het orkest. Erica Vogel is de soliste in het fluitconcert van Nielsen. \nFinlandia is een symfonisch gedicht\, het bekendste werk van Sibelius\, uit 1900. Het past bij het streven naar onafhankelijkheid (van Rusland) aan het begin van de twintigste eeuw. In dit werk klinkt de bekendste hymne van Finland die als het officieuze\, Finse volkslied geldt. \nAls Noorse componist is gekozen voor Edvard Grieg. De bekende Peer Gynt-sage van Hendrik Ibsen is door Grieg van muziek voorzien. ZSO laat het publiek genieten van zes van de meest bekende delen van de Peer Gynt-suites en daarmee van avontuurlijke belevenissen van de hoofdfiguur.\nZowel romantische als meer heftige muziek krijgt een plek in het concert. \nDe Zweedse inbreng komt met prachtige sfeermuziek van Lars-Erik Larsson. De Vintersaga\, gebaseerd op A Winter’s Tale van William Shakespeare\, verklankt vier mooie scenes uit de wintervertelling. \nSoliste Erica Vogel \n \nSoliste Erica Vogel uit Zwolle speelt het Fluitconcert van de Deense componist Carl Nielsen. Dit werk is uitdagend\, voor muzikanten én voor het publiek: het wordt een muzikale strijd tussen fluit en orkest! Erica Vogel is een enthousiast en talentvol musicus uit Zwolle die recent haar masterstudies fluit en piccolo aan het Conservatorium Antwerpen heeft afgesloten. \nPraktische informatie  \nDatum:               Zaterdag 6 april 2024\nStarttijd:             20:00 uur (er is een pauze)\nPlaats:                De Fontein – Sterrenkroos 56 in Zwolle – Stadshagen\nParkeren:           Bij de kerk is een parkeerplaats. Ook aan de Dijkgraafhof aan de overkant van de straat is een ruime parkeerplaats.\nEntree:                € 15 (studenten € 10; 12 tot 18 jr € 5\, tot 12 jr gratis)\nVerkoop:             Tickets zijn te koop bij de leden en voor aanvang bij de entree (pinnen mogelijk). Voor vragen zijn wij te bereiken via info@zwolssymfonieorkest.nl \nZSO speelt met genoegen deze Nordic Adventures als hartverwarmend muzikaal noorderlicht ! Volg ons voor leuke berichten en meer informatie ook op Facebook / Instagram \n 
URL:https://zwolssymfonieorkest.nl/event/scandinavisch-voorjaarsconcert/
LOCATION:De Fontein\, Sterrenkroos 56\, Zwolle
CATEGORIES:Concert
ATTACH;FMTTYPE=image/jpeg:https://zwolssymfonieorkest.nl/wp-content/uploads/2023/10/Nordic-Adventures.jpg
END:VEVENT
BEGIN:VEVENT
DTSTART;TZID=UTC:20231118T193000
DTEND;TZID=UTC:20231118T220000
DTSTAMP:20260421T043353
CREATED:20230706T194048Z
LAST-MODIFIED:20231115T121305Z
UID:14387-1700335800-1700344800@zwolssymfonieorkest.nl
SUMMARY:Zoet\, Zingend\, Zwervend en Swingend
DESCRIPTION:Zwols Symfonie Orkest brengt muziek én dans in concert met Vrouwenkoor en\nDeltion Dans \nOp 18 november zullen het Zwols Symfonie Orkest en Vrouwenkoor Na8ten – in samenwerking met\nde studenten van Deltion Podium & Evenemententechniek – oren\, ogen én spieren prikkelen met\nmooie muziek\, zang en dans: het wordt zoet\, zingend\, zwervend en swingend ! Het concert vindt\nplaats in het Deltion College te Zwolle onder leiding van dirigent Hans Oosterwijk. \nHet Notenkraker-ballet is een prachtige\, zoete combinatie van muziek – van Pjotr Iljitsj Tsjaikovsky –\nmet zang en dans. De notenkraker-pop komt tot leven in Snoepgoedland\, de Suikerfee trakteert\,\nsneeuwvlokken dansen en we zwieren fleurig in de bekende Bloemenwals. We zullen hierbij kunnen\ngenieten van danseres Floortje Koller. \nDe orkestselectie van George Gershwin’s beroemde opera Porgy and Bess laat onder andere de\nbekende songs “Summertime” en “It ain’t necessarily so” horen.\nMet de ouverture “Candide” van Leonard Bernstein klinkt satirisch muziektheater over een jonge\nman die een zwerftocht over de wereld maakt en in merkwaardige situaties belandt.\nHet opzwepende slot van het concert wordt “Danzon” van de Mexicaanse componist Arturo Marquez\nuit 1994. Inmiddels is dit werk wereldberoemd. Wordt het gespeeld dan lijken in de concertzalen de\nstoelen vanzelf in beweging te komen. \nHet Zwols Symfonie Orkest en Vrouwenkoor Na8ten laten het publiek en hun leden graag de mooie\nmuziek en dans beleven. U bent van harte welkom op 18 november\, maar uiteraard ook daarna in het\norkest of het koor. \nPraktische informatie \nEntree: € 15 (studenten € 10; 12 tot 18 jr € 5\, tot 12 jr gratis) \nKaarten zijn te reserveren via info@zwolssymfonieorkest.nl\, maar er zijn voldoende plekken en dus ook te koop voor aanvang aan de deur bij voorkeur met pin. \nDe concert locatie Deltion aan de Mozartlaan is goed bereikbaar. Parkeren kan in de P1 parkeergarage aan de Obrechtstraat\, daar is ook een\noverdekte fietsenstalling. \n 
URL:https://zwolssymfonieorkest.nl/event/najaarsconcert/
LOCATION:Deltion College Zwolle\, Mozartlaan 15\, Zwolle
CATEGORIES:Concert
ATTACH;FMTTYPE=image/png:https://zwolssymfonieorkest.nl/wp-content/uploads/2023/07/ZoetZingendZwervendSwingend.png
END:VEVENT
BEGIN:VEVENT
DTSTART;TZID=UTC:20230415T200000
DTEND;TZID=UTC:20230415T220000
DTSTAMP:20260421T043353
CREATED:20221016T175416Z
LAST-MODIFIED:20230329T203210Z
UID:14267-1681588800-1681596000@zwolssymfonieorkest.nl
SUMMARY:Beethoven en Brahms - Vrede en vriendschap
DESCRIPTION:Op 15 april brengt het Zwols Symfonie Orkest een ambitieus concertprogramma in de Fonteinkerk in Zwolle. Vrede en vriendschap is het thema van het concert waaraan twee topmusici medewerking geven. Op het programma staan het beroemde Dubbelconcert van Brahms – met Judith van Driel en David Faber als solisten op viool en cello – en de ‘Eroica’ symfonie no. 3 van Beethoven. Het beloofd een uniek concert te worden in Zwolle. \nSolisten Dudok Quartet voor Brahms’ Dubbelconcert\nDe solisten in het Dubbelconcert van Brahms zijn bekend als leden van het Dudok Quartet. Zij pakken\nBrahms beet als solisten in een prachtig concert dat Brahms componeerde als verzoening met\njeugdvriend en violist Joachim nadat Brahms zijdelings betrokken raakte in relatieproblemen van\nJoachim. Judith van Driel (viool) en David Faber (cello) zullen de boodschap van vriendschap flink op\nstreek helpen in dit prachtige dubbelconcert. \nDe ‘Eroica’ van Beethoven is een muzikaal monument waarin de strijd voor mensenrechten in Europa\ncentraal staat. Strijd en verdriet zijn onvermijdelijk op de weg naar Vrijheid\, gelijkheid en\nbroederschap in Europa. Beethoven had aanvankelijk veel bewondering voor Napoleon Bonaparte\,\nmaar het was een enorme teleurstelling toen die zich tot keizer liet kronen. In de symfonie zijn als\neerbetoon thema’s verwerkt uit volksmuziek van de landen die Napoleon uiteindelijk versloegen. \nStrijkersproject\nMet dit concert geeft het Zwols Symfonie Orkest een klinkende afsluiting aan het strijkersproject dat\nin het afgelopen half jaar veel violisten\, cellisten en contrabassisten de weg naar het orkest heeft\nlaten vinden. Het wordt een concert in Zwolle met muzikaal genieten tegen de serieuze achtergrond van het\nbelang van Vrede en Vriendschap. \nKaarten: € 15\,= te reserveren via info@zwolssymfonieorkest.nl of aan de zaal \n  \nJudith van Driel en David Faber \n  \n 
URL:https://zwolssymfonieorkest.nl/event/brahms-dubbelconcert-voor-viool-en-cello/
LOCATION:De Fontein\, Sterrenkroos 56\, Zwolle
CATEGORIES:Concert
ATTACH;FMTTYPE=image/jpeg:https://zwolssymfonieorkest.nl/wp-content/uploads/2022/10/vrede-vriendschap-square.jpg
END:VEVENT
BEGIN:VEVENT
DTSTART;TZID=UTC:20221119T200000
DTEND;TZID=UTC:20221119T220000
DTSTAMP:20260421T043353
CREATED:20220901T074127Z
LAST-MODIFIED:20221025T092612Z
UID:14259-1668888000-1668895200@zwolssymfonieorkest.nl
SUMMARY:Romantiek in het najaar
DESCRIPTION:Muziek als blikopener voor de ziel \nOp 19 november geeft het Zwols Symfonie Orkest om 20.00 uur een concert vol romantiek in De Fontein te Zwolle. Op het programma staan Brahms\, het pianoconcert van Schumann en Haydn.\nHet orkest staat onder leiding van Hans Oosterwijk en pianist Carl van Reenen zal optreden als solist. \nHet ZSO bestaat uit een groep van rond de 40 enthousiaste amateur musici die in een gezellige sfeer samen muziek maken en daarbij streven naar het neerzetten van een mooi muzikaal programma. Door de Corona maatregelen was dit een tijd niet mogelijk\, maar inmiddels wordt er weer elke dinsdagavond stevig gerepeteerd. Op 19 november zal het orkest daarom een gevarieerd programma kunnen brengen\,met veel dwarsverbanden. \nDe avond begint met Johannes Brahms\, variaties over een thema in Bes op 56 van Joseph Haydn. Componist en muziekcriticus Robert Schumann voorspelde al dat zijn jongere vriend Brahms wel\neens grote symfonische werken zou kunnen gaan componeren. Deze variaties worden ook wel gezien als een vingeroefening. Pas drie jaar later verscheen Brahms eerste symfonie. Van dezelfde Robert Schumann speelt het orkest het enige door hem gecomponeerde pianoconcert in a mineur op 54. Carl van Reenen neemt de pianopartij voor zijn rekening. Extra leuk is het feit dat\nCarl van Reenen 15 jaar dirigent is geweest van het ZSO. Een soort muzikaal afscheid dus. Carl studeerde piano bij Jan Wijn en begeleidt en coacht studenten aan het Utrechts Conservatorium. \nNa de pauze sluit het ZSO af met Joseph Haydn symfonie 104 in D. De symfonie wordt ook de ‘London symfonie’ genoemd\, omdat Haydn in Londen woonde toen hij dit werk als laatste van een\nserie werken componeerde. \nKaarten \n\n15 euro voor volwassen\n10 euro voor studenten\n5 euro voor jeugd\ngratis voor kinderen t/m 12 jaar\n\nKaarten zijn te reserveren via info@zwolssymfonieorkest.nl of te koop aan de deur voorafgaand aan het concert. \n 
URL:https://zwolssymfonieorkest.nl/event/concert/
LOCATION:De Fontein\, Sterrenkroos 56\, Zwolle
CATEGORIES:Concert
ATTACH;FMTTYPE=image/jpeg:https://zwolssymfonieorkest.nl/wp-content/uploads/2022/07/foto-ZSO-1-scaled.jpg
END:VEVENT
BEGIN:VEVENT
DTSTART;TZID=UTC:20220618T200000
DTEND;TZID=UTC:20220618T213000
DTSTAMP:20260421T043353
CREATED:20220317T200222Z
LAST-MODIFIED:20220520T113628Z
UID:14202-1655582400-1655587800@zwolssymfonieorkest.nl
SUMMARY:Fragment
DESCRIPTION:Met trots presenteren wij de muziektheatervoorstelling “Fragment”. Deze grootse muziektheatervoorstelling met een 45-koppig symfonieorkest is te bewonderen op 17 en 18 juni in het Deltion theater te Zwolle. \nIn de voorstelling beleven we de gedachten van Marius mee. Die brengen ons van zijn zusje naar zijn schoolbank\, van zijn moeder naar zijn vrouw\, van zijn vrienden naar de oorlog en naar zijn lieve dochter. \nHij lijkt te verdwalen in zijn eigen geschiedenis. Zijn gedachten lijken over elkaar te struikelen en gebeurtenissen die nooit simultaan plaatsvonden\, beginnen meer en meer te verweven. Het enige dat hij kan doen is erin meegaan. Zo lang hij weet wie hij is en waar hij is\, is de wereld duidelijk. \nDe muziektheatervoorstelling “Fragment” is een theaterbewerking op de musical “Fragment” geschreven door Jasper de Bruijn. De voorstelling is in samenwerking met\, de theaterwerkplaats van Jeugdtheaterschool Zwolle\, het Deltion college en het Zwols symfonieorkest. Een grootse muziektheatervoorstelling over het zoeken naar antwoorden en herinneringen. \nvrijdag 17 juni 20.00 uur\nzaterdag  18 juni 14.30 uur\nzaterdag 18 juni 20.00 uur
URL:https://zwolssymfonieorkest.nl/event/fragment-2/
LOCATION:Deltion College Zwolle\, Mozartlaan 15\, Zwolle
CATEGORIES:Concert
ATTACH;FMTTYPE=image/jpeg:https://zwolssymfonieorkest.nl/wp-content/uploads/2022/03/fragment.jpg
END:VEVENT
BEGIN:VEVENT
DTSTART;TZID=UTC:20220617T200000
DTEND;TZID=UTC:20220617T213000
DTSTAMP:20260421T043353
CREATED:20220317T200014Z
LAST-MODIFIED:20220520T113820Z
UID:14198-1655496000-1655501400@zwolssymfonieorkest.nl
SUMMARY:Fragment
DESCRIPTION:Met trots presenteren wij de muziektheatervoorstelling “Fragment”. Deze grootse muziektheatervoorstelling met een 45-koppig symfonieorkest is te bewonderen op 17 en 18 juni in het Deltion theater te Zwolle. \nIn de voorstelling beleven we de gedachten van Marius mee. Die brengen ons van zijn zusje naar zijn schoolbank\, van zijn moeder naar zijn vrouw\, van zijn vrienden naar de oorlog en naar zijn lieve dochter. \nHij lijkt te verdwalen in zijn eigen geschiedenis. Zijn gedachten lijken over elkaar te struikelen en gebeurtenissen die nooit simultaan plaatsvonden\, beginnen meer en meer te verweven. Het enige dat hij kan doen is erin meegaan. Zo lang hij weet wie hij is en waar hij is\, is de wereld duidelijk. \nDe muziektheatervoorstelling “Fragment” is een theaterbewerking op de musical “Fragment” geschreven door Jasper de Bruijn. De voorstelling is in samenwerking met\, de theaterwerkplaats van Jeugdtheaterschool Zwolle\, het Deltion college en het Zwols symfonieorkest. Een grootse muziektheatervoorstelling over het zoeken naar antwoorden en herinneringen. \nvrijdag 17 juni 20.00 uur\nzaterdag  18 juni 14.30 uur\nzaterdag 18 juni 20.00 uur
URL:https://zwolssymfonieorkest.nl/event/fragment/
LOCATION:Deltion College Zwolle\, Mozartlaan 15\, Zwolle
CATEGORIES:Concert
ATTACH;FMTTYPE=image/jpeg:https://zwolssymfonieorkest.nl/wp-content/uploads/2022/03/fragment.jpg
END:VEVENT
BEGIN:VEVENT
DTSTART;TZID=UTC:20210907T193000
DTEND;TZID=UTC:20210907T220000
DTSTAMP:20260421T043353
CREATED:20210610T185709Z
LAST-MODIFIED:20210706T114342Z
UID:14175-1631043000-1631052000@zwolssymfonieorkest.nl
SUMMARY:Kom je ook op ons feestje?
DESCRIPTION:Hoera\, op 7 september gaan we weer repeteren! We vieren dit onder leiding van Hans Oosterwijk met een repetoire met feestelijke en niet te moeilijke muziek\, zodat iedereen de tijd heeft om weer te wennen aan het samen spelen en we vooral kunnen genieten van het samen muziek maken. Op de lessenaar staat in ieder geval: \nBizet                   Overture Carmen \nBizet                   L’Arlésienne Suite No. 2 \nBorodin              symfonische gedicht In de steppen van Centraal-Azië \nDvorak               Slavische Dansen (2 stuks) \nBen je nieuw en wil je mee komen spelen? Dat kan! Mail gerust voor meer informatie naar info@zwolssymfonieorkest.nl
URL:https://zwolssymfonieorkest.nl/event/eerste-repetitie/
LOCATION:Gymnasium Celeanum\, Zoom 37\, Zwolle\, 8032 EM\, Nederland
CATEGORIES:Concert,Open repetitie,Repetitie
ATTACH;FMTTYPE=image/png:https://zwolssymfonieorkest.nl/wp-content/uploads/2021/06/Feestje.png
END:VEVENT
BEGIN:VEVENT
DTSTART;TZID=UTC:20210629T193000
DTEND;TZID=UTC:20210629T220000
DTSTAMP:20260421T043353
CREATED:20210610T190528Z
LAST-MODIFIED:20210610T190857Z
UID:14178-1624995000-1625004000@zwolssymfonieorkest.nl
SUMMARY:Buitenrepetitie
DESCRIPTION:Ondanks dat we dit seizoen nauwelijks samen hebben gespeeld\, zien we toch de mogelijkheid voor een feestelijk afsluiting voor alle leden in Galerie en  Beeldentuin De Queest\, Koerbergseweg 6\, in Heerde. We starten de avond met een buitenrepetitie en sluiten de avond en het seizoen af met een gezamelijke borrel.
URL:https://zwolssymfonieorkest.nl/event/buitenrepetitie/
LOCATION:Galerie en Beeldentuin De Queeste in Heerde\, Koebergseweg 6\, Heerde\, 8181 LL
CATEGORIES:Concert,Leden evenement
ATTACH;FMTTYPE=image/jpeg:https://zwolssymfonieorkest.nl/wp-content/uploads/2021/06/download.jpg
END:VEVENT
BEGIN:VEVENT
DTSTART;TZID=UTC:20200404T200000
DTEND;TZID=UTC:20200404T223000
DTSTAMP:20260421T043353
CREATED:20200404T200000Z
LAST-MODIFIED:20200313T093805Z
UID:25-1586030400-1586039400@zwolssymfonieorkest.nl
SUMMARY:Voorjaarsconcert afgelast
DESCRIPTION:De overheid heeft extra maatregelen afgekondigd in verband met de corona-crisis: alle evenementen waaraan 100 of meer mensen aan deelnemen moeten worden afgelast. Deze maatregel geldt tot en met tenminste 31 maart aanstaande. \nHet bestuur heeft moeten besluiten om het concert van 4 april aanstaande te annuleren. De richtlijnen zoals Rutte die vandaag heeft verwoord laten ons eigenlijk geen andere keus\, ook al valt onze datum buiten de bovengenoemde termijn. \nHet is voor nu nog niet bekend of het concert op een later moment alsnog doorgang vind. \nProgramma \n\nAdagio uit het ballet “Spartacus” van de Armeens componist Khachaturian uit 1955. De ouderen onder ons zullen deze muziek zeker herkennen als de openingsmelodie van de de populaire serie de “Onedin line” die in de jaren 70 van de vorige eeuw op de nederlands televisie te zien was.\nTrompet concert van de Armeense componist Alexander Arutjunjan uit 1950. De solopartij zal worden gespeeld door de winnaar van een concours onder studenten van de conservatoria van Zwolle en Utrecht.\nZevende symfonie van de Tsjechische componist Antonin Dvorak uit 1885.\n\nKaarten \nKaarten zijn verkrijgbaar bij leden van het orkest of voor aanvang van het concert bij de kassa. Wilt u zeker zijn van een plek\, dan kunt u kaarten reserveren via info@zwolssymfonieorkest.nl
URL:https://zwolssymfonieorkest.nl/event/voorjaarsconcert/
LOCATION:De Fontein\, Sterrenkroos 56\, Zwolle
CATEGORIES:Concert
ATTACH;FMTTYPE=image/jpeg:https://zwolssymfonieorkest.nl/wp-content/uploads/2020/04/cancelled.jpg
END:VEVENT
END:VCALENDAR